BEGIN:VCALENDAR
VERSION:2.0
PRODID:-//DP Pro Event Calendar//3.0.2//EN
BEGIN:VEVENT
UID:96053571-ce1c-4012-a115-b17026c17da0
DTSTART;TZID=UTC:20241226T100000
DTEND;TZID=UTC:20260422T113000
DTSTAMP:20231231T110323Z
SUMMARY:Scriptural Reasoning
DESCRIPTION:
LOCATION:
URL:https://www.calgaryinterfaithcouncil.org/2024-united-nations-world-interfaith-harmony-week/
END:VEVENT
END:VCALENDAR