BEGIN:VCALENDAR
VERSION:2.0
PRODID:-//DP Pro Event Calendar//3.0.2//EN
BEGIN:VEVENT
UID:cd8019fe-8a5a-4cd7-9c5c-0ae2fb560b00
DTSTART;TZID=UTC:20240229T103000
DTEND;TZID=UTC:20260423T215900
DTSTAMP:20240211T104312Z
SUMMARY:Join the Conversation
DESCRIPTION:You are warmly invited to join the International Intergen Collective for a time of stimulating conversation.\r \n \r \n There will be very short presentations on aspects of intergenerational ministry from leaders in the field to stimulate us and space to discover what you think we should be talking about (similar to the first conversation in October 2023).\r \n \r \n The International Intergen Collective has grown out of a group that met together in Westminster\, England a few years ago and have kept the international conversation about intergenerational ministry alive online ever since\, inviting a wider group of people into the space.  We hope to increase the diversity of the organising team and are open to suggests about the future direction of this new movement.\r \n \r \n It is exciting to be part of this growing international group where we have so much to learn from each other.\r \n \r \n We hope you can join us at whatever time of day or night this event falls in your time zone – come to listen\, share and shape the conversation!
LOCATION:
URL:https://www.eventbrite.ca/e/join-the-conversation-2-tickets-768296945847?aff=ebdssbdestsearch&amp;keep_tld=1
END:VEVENT
END:VCALENDAR