BEGIN:VCALENDAR
VERSION:2.0
PRODID:-//DP Pro Event Calendar//3.0.2//EN
BEGIN:VEVENT
UID:5b251594-5503-40b6-bc92-e9f3a54f8f8e
DTSTART;TZID=UTC:20240222T160000
DTEND;TZID=UTC:20260422T215900
DTSTAMP:20240102T140112Z
SUMMARY:PSALMS in Interfaith Contexts
DESCRIPTION:
LOCATION:
URL:https://www.oxfordinterfaithforum.org/
END:VEVENT
END:VCALENDAR