BEGIN:VCALENDAR
VERSION:2.0
PRODID:-//DP Pro Event Calendar//3.0.2//EN
BEGIN:VEVENT
UID:57cc3d2d-e29b-4bdb-baab-99588848f6ee
DTSTART;TZID=UTC:20240221T220000
DTEND;TZID=UTC:20260422T215900
DTSTAMP:20240218T091818Z
SUMMARY:Finding Light in the Darkness – Interfaith Conversation
DESCRIPTION:The Prince George’s County Office of Human Rights invites you to an interfaith conversation co-hosted with Hyattsville Mennonite Church. Join as we hear from panelists of different faiths reflecting on how their faith offers them light in the darkness\, how it leads them to hope even when times are difficult\, and how it calls them to be sources of light to others in dark times. How are we similar\, despite (or because of?) our different faith journeys? How do we diverge? Feauturing Rahmah Abdulaleem\, Pastor Cynthia Lapp\, and Rabbi Abbi Sharofsky\, Finding Light in the Darkness offers a time of community\, of building understanding\, and of learning how others find hope in difficult times.
LOCATION:
URL:https://www.eventbrite.com/e/finding-light-in-the-darkness-interfaith-conversation-tickets-815299050407
END:VEVENT
END:VCALENDAR