BEGIN:VCALENDAR
VERSION:2.0
PRODID:-//DP Pro Event Calendar//3.0.2//EN
BEGIN:VEVENT
UID:51d0818b-6053-40f5-94d1-508db8576180
DTSTART;TZID=UTC:20240220T163000
DTEND;TZID=UTC:20260425T215900
DTSTAMP:20240122T101527Z
SUMMARY:Sacred Earth Sacred Soul: Interfaith Harmony Lecture
DESCRIPTION:
LOCATION:
URL:https://www.seattleu.edu/su-today/2024/ceie-interfaith-harmony-lecture-sacred-earth-sacred-soul.html
END:VEVENT
END:VCALENDAR