BEGIN:VCALENDAR
VERSION:2.0
PRODID:-//DP Pro Event Calendar//3.0.2//EN
BEGIN:VEVENT
UID:249187ee-9a90-425d-9a84-6bd1f687e2c6
DTSTART;TZID=UTC:20240211T120000
DTEND;TZID=UTC:20260422T133000
DTSTAMP:20231231T111939Z
SUMMARY:Songs for Peace interfaith Concert
DESCRIPTION:
LOCATION:
URL:https://www.calgaryinterfaithcouncil.org/2024-united-nations-world-interfaith-harmony-week/
END:VEVENT
END:VCALENDAR