BEGIN:VCALENDAR
VERSION:2.0
PRODID:-//DP Pro Event Calendar//3.0.2//EN
BEGIN:VEVENT
UID:77ef92d0-d92f-4edb-8191-77fcc410c27e
DTSTART;TZID=UTC:20240211T110000
DTEND;TZID=UTC:20260425T215900
DTSTAMP:20240122T101839Z
SUMMARY:Interfaith Harmony: Sharing Our Culture & History
DESCRIPTION:\r \n \r \n &nbsp\;\r \n \r \n Celebrate culture and history through two documentaries followed by group discussions. Lunch to be served featuring Caribbean and Jewish foods.\r \n \r \n Legacy Voices\r \n \r \n  	Halton Region has a rich history of Blacks in the community that should not be forgotten. The Canadian Caribbean Association of Halton presents “Legacy Voices\,” a documentary that follows five Black immigrants to Halton Region at a time when they were the only Black families in their communities. It is their story of legacy for generations to come.\r \n  	This Falling Motion production was an official selection for four film festivals: Hamilton Film Festival – Canadian Market 2020\; Canadian Diversity Film Festival 2020\; Quinte Canadian Filmfest 2020\; and Film for Peace 2020.\r \n \r \n Periphery\r \n \r \n  	Periphery is an evocative photographic and film project with accompanying digital curricular material that celebrates ethnic diversity in the Jewish community. Sharing narratives from individuals of multiracial and multiethnic backgrounds\, Periphery creates space to look\, listen\, and learn from participants as they share their experiences and explore ideas of representation\, intersectionality\, ethnicity\, race\, and sexuality. Periphery also draws our attention inwards and invites us to examine how we foster and support a broader and richer view of the Jewish community.\r \n 
LOCATION:
URL:https://www.eventbrite.ca/e/interfaith-harmony-sharing-our-culture-history-tickets-775848241977
END:VEVENT
END:VCALENDAR