BEGIN:VCALENDAR
VERSION:2.0
PRODID:-//DP Pro Event Calendar//3.0.2//EN
BEGIN:VEVENT
UID:a7c8a644-b537-496b-b273-829c5f0baa07
DTSTART;TZID=UTC:20240209T220000
DTEND;TZID=UTC:20260423T215900
DTSTAMP:20240114T115909Z
SUMMARY:Participate at Home in Session of Meditation or Prayer and Study run by a 94 year old Retired Roman Catholic Priest (who may be the oldest person to lead a session in WIHW World Interfaith Harmony Week)
DESCRIPTION:Monday 5th February from 2pm – 3pm. The session will include meditation or prayer and study. All welcome to participate at home knowing others will be participating in their homes at the same time. This is not an online meeting.\r \n \r \n Programme Timetable\r \n \r \n 2.00pm – 2.20pm Silent Meditation or Prayer\r \n \r \n 2.20pm – 2.40pm Study Session\r \n \r \n The Priest will study Psalms 4\, 26 and 16 (Psalm numbering according to The Catholic Bible)\r \n \r \n http://www.catholic-bible.org/psalms/\r \n \r \n Psalm 4 Hear me when I call…. http://www.catholic-bible.org/psalms/psalm-4.htm\r \n \r \n Psalm 26 Judge me\, O lord…. http://www.catholic-bible.org/psalms/psalm-26.htm\r \n \r \n Psalm 16 Preserve me\, O God…. http://www.catholic-bible.org/psalms/psalm-16.htm\r \n \r \n Please feel welcome to study any religious text\r \n \r \n 2.40pm – 2.55pm Silent Meditation or Prayer\r \n \r \n 2.55pm – 3.00pm Prayer and Blessing\r \n \r \n The Priest will recite The Lord’s Prayer which starts Our Father…\r \n \r \n https://www.vaticannews.va/en/prayers/our-father.html\r \n \r \n Please feel welcome to recite any Prayer or Chant\r \n \r \n The Priest will recite as a Blessing a Benediction Prayer (The Bible Numbers 6:24-26)\r \n \r \n May the Lord Bless You And Keep You. The Lord Make His Face Shine Upon You And Be Gracious to You. The Lord Turn His Face Towards You And Give You Peace. The Lord give His Holy Benediction Amen.\r \n \r \n https://www.learnreligions.com/benediction-may-the-lord-bless-you-700494\r \n \r \n Please feel welcome to recite any Blessing
LOCATION:
URL:
END:VEVENT
END:VCALENDAR