BEGIN:VCALENDAR
VERSION:2.0
PRODID:-//DP Pro Event Calendar//3.0.2//EN
BEGIN:VEVENT
UID:1b6df634-df74-4dde-83a7-945583565f4a
DTSTART;TZID=UTC:20240209T100000
DTEND;TZID=UTC:20260423T215900
DTSTAMP:20231231T105726Z
SUMMARY:Breaking Bread Luncheon Series for Interfaith Engagement
DESCRIPTION: All students\, staff\, and faculty at John Carroll University are invited to the Breaking Bread Luncheon Series for Interfaith Engagement on October 6\, November 3\, February 9\, and April 12\, noon time at the Interfaith Atrium in Lombardo Student Center. Save your seat for a delicious free lunch and increase your knowledge and engagement with different religious traditions through fun games and activities!\r \n \r \n &nbsp\;\r \n \r \n sign-up link:\r \n \r \n https://www.eventbrite.co.uk/e/youth-interfaith-summit-2024-faith-and-climate-for-a-sustainable-future-tickets-773019541257?aff=oddtdtcreator
LOCATION:
URL:https://www.jcu.edu/breakingbread
END:VEVENT
END:VCALENDAR