BEGIN:VCALENDAR
VERSION:2.0
PRODID:-//DP Pro Event Calendar//3.0.2//EN
BEGIN:VEVENT
UID:8ab07109-da12-4ae1-b33a-e7b486d021de
DTSTART;TZID=UTC:20240208T220000
DTEND;TZID=UTC:20260422T215900
DTSTAMP:20240114T095308Z
SUMMARY:Interfaith Week 2024
DESCRIPTION:Schedule for February 2-9\, 2024\r \n The Office for Religious\, Spiritual &amp\; Ethical Life is pleased to announce Interfaith Week 2024. This week features interfaith events\, as well as events offered by some of our Religious\, Spiritual &amp\; Ethical Life Affiliate organizations for those curious to learn more about various traditions and practices. For more information about any of these events\, please contact Callista Isabelle.
LOCATION:
URL:https://students.wustl.edu/interfaith-week/
END:VEVENT
END:VCALENDAR