BEGIN:VCALENDAR
VERSION:2.0
PRODID:-//DP Pro Event Calendar//3.0.2//EN
BEGIN:VEVENT
UID:3ddb752d-a2ec-4b09-a19b-8cabee21843c
DTSTART;TZID=UTC:20240208T170000
DTEND;TZID=UTC:20260422T215900
DTSTAMP:20240114T095212Z
SUMMARY:Interfaith Week 2024: “Dancing in the Darkness: Spiritual Lessons for Thriving in Turbulent Times.”
DESCRIPTION:THE RABBI FERDINAND M. ISSERMAN MEMORIAL LECTURE – FEATURING DR. OTIS MOSS III\r \n February 8\, 7 p.m.\, Graham Memorial Chapel\r \n \r \n This lecture is based on the book\, “Dancing in the Darkness: Spiritual Lessons for Thriving in Turbulent Times.” Free and open to the public.\r \n \r \n Learn more about the Isserman Memorial Lecture.
LOCATION:
URL:https://students.wustl.edu/interfaith-week/
END:VEVENT
END:VCALENDAR