BEGIN:VCALENDAR
VERSION:2.0
PRODID:-//DP Pro Event Calendar//3.0.2//EN
BEGIN:VEVENT
UID:f884f776-8c1f-40ec-a8ec-4e3d3a1ffdd5
DTSTART;TZID=UTC:20240208T170000
DTEND;TZID=UTC:20260422T215900
DTSTAMP:20231231T111605Z
SUMMARY:Women of Faith Event
DESCRIPTION:
LOCATION:
URL:https://www.calgaryinterfaithcouncil.org/2024-united-nations-world-interfaith-harmony-week/
END:VEVENT
END:VCALENDAR