BEGIN:VCALENDAR
VERSION:2.0
PRODID:-//DP Pro Event Calendar//3.0.2//EN
BEGIN:VEVENT
UID:59657147-7bd8-4bb4-9397-efe24a902c44
DTSTART;TZID=UTC:20240207T220000
DTEND;TZID=UTC:20260424T215900
DTSTAMP:20240117T131419Z
SUMMARY:WORLD INTERFAITH HARMONY WEEK 2024
DESCRIPTION:
LOCATION:
URL:https://www.centreavec.be/animation/world-interfaith-harmony-week-2024/
END:VEVENT
END:VCALENDAR