BEGIN:VCALENDAR
VERSION:2.0
PRODID:-//DP Pro Event Calendar//3.0.2//EN
BEGIN:VEVENT
UID:3d3f58a2-7b85-407d-8d58-5df090b04608
DTSTART;TZID=UTC:20240206T220000
DTEND;TZID=UTC:20260425T215900
DTSTAMP:20240211T080500Z
SUMMARY:Multi-Faith Centre: World Interfaith Harmony Week Celebration @ Richmond
DESCRIPTION:\r \n \r \n \r \n \r \n \r \n Campus: KPU Richmond\r \n Location: Richmond Student Common Space\r \n \r \n \r \n \r \n Description:\r \n \r \n \r \n The KPU Multi-Faith Centre is hosting two World Interfaith Harmony Week events\, welcoming open dialogue on the power of humility\, charity\, and goodwill. Visit the KPU chaplains to chat about the importance of unity and peace-building\, while promoting harmony between campus community members regardless of their faith or secular belief! \r \n \r \n \r \n 
LOCATION:
URL:https://www.kpu.ca/events/multi-faith-centre-world-interfaith-harmony-week-celebration-richmond
END:VEVENT
END:VCALENDAR