BEGIN:VCALENDAR
VERSION:2.0
PRODID:-//DP Pro Event Calendar//3.0.2//EN
BEGIN:VEVENT
UID:51f56dfd-39b2-496e-9480-406fc05cb190
DTSTART;TZID=UTC:20240206T220000
DTEND;TZID=UTC:20260422T215900
DTSTAMP:20240114T101219Z
SUMMARY:WFDEIP World Interfaith harmony Week event
DESCRIPTION:Westmorland and Furness Diversity Equity and Inclusion Partnership (WFDEIP) will hold 2 sessions at home every day of World Interfaith Harmony Week in support of World Interfaith Harmony week. These will be at 7am and 7pm for half an hour. Please feel welcome to read The Golden Rule and to undertake an appropriate practice from any faith or none (eg chanting\, meditation\, reading\, reciting). The Golden Rule is available at https://worldfaiths.org/our-poster/
LOCATION:
URL:
END:VEVENT
END:VCALENDAR