BEGIN:VCALENDAR
VERSION:2.0
PRODID:-//DP Pro Event Calendar//3.0.2//EN
BEGIN:VEVENT
UID:22276779-9be8-4f66-a2c9-da637cbc21c8
DTSTART;TZID=UTC:20240206T170000
DTEND;TZID=UTC:20260421T183000
DTSTAMP:20240128T174050Z
SUMMARY:Interfaith Interactions - ‘Pilgrimage’ - Interfaith Scotland
DESCRIPTION:Interfaith Scotland is holding the next in its series of Interfaith Interactions on Tuesday 6 February. The theme of Pilgrimage will be explored by Dr Dorothea Christiana\, Sunna Kaleem and Nicola Maule.  It is being held from 7pm to 8.30pm.
LOCATION:
URL:https://www.eventbrite.co.uk/e/interfaith-interactions-pilgrimage-tickets-726146693307
END:VEVENT
END:VCALENDAR