BEGIN:VCALENDAR
VERSION:2.0
PRODID:-//DP Pro Event Calendar//3.0.2//EN
BEGIN:VEVENT
UID:09aca226-a265-4b6c-8fc1-2b2c7b5fe515
DTSTART;TZID=UTC:20240205T220000
DTEND;TZID=UTC:20260423T215900
DTSTAMP:20240117T120450Z
SUMMARY:Celebrating the spirit of Solidarity and Peace
DESCRIPTION:A week long celebration with the partners of the WIHW-Zamboanga and other parts of the country coming from different groups and agencies.
LOCATION:
URL:
END:VEVENT
END:VCALENDAR