BEGIN:VCALENDAR
VERSION:2.0
PRODID:-//DP Pro Event Calendar//3.0.2//EN
BEGIN:VEVENT
UID:51613184-9d72-417b-a517-fad218a65be0
DTSTART;TZID=UTC:20240204T220000
DTEND;TZID=UTC:20260423T215900
DTSTAMP:20240117T120238Z
SUMMARY:Celebrating the spirit of Solidarity and Peace
DESCRIPTION:A week long celebration with the partners of the WIHW-Zamboanga and other parts of the country coming from different groups and agencies.
LOCATION:
URL:
END:VEVENT
END:VCALENDAR