BEGIN:VCALENDAR
VERSION:2.0
PRODID:-//DP Pro Event Calendar//3.0.2//EN
BEGIN:VEVENT
UID:b4e7109a-4b99-442c-9f8a-54c285b12d37
DTSTART;TZID=UTC:20240204T163000
DTEND;TZID=UTC:20260422T183000
DTSTAMP:20231231T111422Z
SUMMARY:Strangers to Neighbours Interfaith Potluck
DESCRIPTION:
LOCATION:
URL:https://www.calgaryinterfaithcouncil.org/2024-united-nations-world-interfaith-harmony-week/
END:VEVENT
END:VCALENDAR