BEGIN:VCALENDAR
VERSION:2.0
PRODID:-//DP Pro Event Calendar//3.0.2//EN
BEGIN:VEVENT
UID:e12c48d5-b79a-4c66-b23e-0ff56249d700
DTSTART;TZID=UTC:20240204T110000
DTEND;TZID=UTC:20260421T215900
DTSTAMP:20240128T173917Z
SUMMARY:Vedic way of life - Women’s Interfaith Forum Sheffield
DESCRIPTION:Women’s Interfaith Forum Sheffield is holding a gathering on Sunday 4 February. Dr Anju Devianee Keetharuth will be giving "an insight into the Vedic way of life to find inner peace in a not so peaceful world".
LOCATION:
URL:https://sheffieldinterfaith.org.uk/2024/01/womens-interfaith-forum-sheffield/
END:VEVENT
END:VCALENDAR