BEGIN:VCALENDAR
VERSION:2.0
PRODID:-//DP Pro Event Calendar//3.0.2//EN
BEGIN:VEVENT
UID:797ef491-01a1-43d0-86a9-865f438f85b4
DTSTART;TZID=UTC:20240203T220000
DTEND;TZID=UTC:20260423T215900
DTSTAMP:20240117T120141Z
SUMMARY:Celebrating the spirit of Solidarity and Peace
DESCRIPTION:A week long celebration with the partners of the WIHW-Zamboanga and other parts of the country coming from different groups and agencies.
LOCATION:
URL:
END:VEVENT
END:VCALENDAR