BEGIN:VCALENDAR
VERSION:2.0
PRODID:-//DP Pro Event Calendar//3.0.2//EN
BEGIN:VEVENT
UID:93b751aa-9796-434c-a271-b721d76df7e2
DTSTART;TZID=UTC:20240203T153000
DTEND;TZID=UTC:20260423T215900
DTSTAMP:20240211T082307Z
SUMMARY:UN World Interfaith Harmony Week Dinner
DESCRIPTION:UN World Interfaith Harmony Week Dinner\r \n \r \n Join us for a delightful evening of unity and diversity at the UN World Interfaith Harmony Week Dinner! This in-person event will be held at 9570 River Road\, Delta\, BC\, Canada. Immerse yourself in a celebration of different faiths\, cultures\, and traditions as we come together to promote harmony and understanding. Enjoy a delicious feast while engaging in meaningful conversations with people from various backgrounds. Let's foster peace and cooperation in our community. Don't miss this unique opportunity to connect and learn from one another. Mark your calendars and be part of this event!\r \n \r \n 
LOCATION:
URL:https://www.eventbrite.ca/e/un-world-interfaith-harmony-week-dinner-tickets-817324287947
END:VEVENT
END:VCALENDAR