BEGIN:VCALENDAR
VERSION:2.0
PRODID:-//DP Pro Event Calendar//3.0.2//EN
BEGIN:VEVENT
UID:d7bda32e-a70a-461c-a3e5-d852930ebb15
DTSTART;TZID=UTC:20240203T140000
DTEND;TZID=UTC:20260423T215900
DTSTAMP:20240211T113723Z
SUMMARY:World Hijab Day
DESCRIPTION:
LOCATION:
URL:https://worldhijabday.com/global-events/
END:VEVENT
END:VCALENDAR