BEGIN:VCALENDAR
VERSION:2.0
PRODID:-//DP Pro Event Calendar//3.0.2//EN
BEGIN:VEVENT
UID:56e51c51-25a0-4665-9a0f-e04d865571a2
DTSTART;TZID=UTC:20240203T140000
DTEND;TZID=UTC:20260422T151500
DTSTAMP:20231231T111209Z
SUMMARY:Service project
DESCRIPTION:
LOCATION:
URL:https://www.calgaryinterfaithcouncil.org/2024-united-nations-world-interfaith-harmony-week/
END:VEVENT
END:VCALENDAR