BEGIN:VCALENDAR
VERSION:2.0
PRODID:-//DP Pro Event Calendar//3.0.2//EN
BEGIN:VEVENT
UID:a7362cee-93c6-49a4-907d-53edafc594a1
DTSTART;TZID=UTC:20240202T220000
DTEND;TZID=UTC:20260423T215900
DTSTAMP:20240211T104612Z
SUMMARY:World Interfaith Harmony Week
DESCRIPTION:\r \n \r \n From left\, Cornwall Interfaith Partnership members John Towndrow\, Syed Zaid Hussain\, Yousef Vakily\, and Nashwan Kasim-Vakily\, at the launch of World Interfaith Harmony Week held at Knox-St. Paul's United Church on Saturday February 3\, 2024 in Cornwall\, Ont. Greg Peerenboom/Special to the Cornwall Standard-Freeholder/Postmedia Network PHOTO BY GREG PEERENBOOM /Greg Peerenboom/Special to the Standard-Freeholder\r \n \r \n \r \n Article content\r \n Spurred in part by a new generation of participants and a renewed urgency over current world affairs\, the Cornwall Interfaith Partnership is seeking to become more active in binding together its community\, regardless of individual beliefs.\r \n \r \n 
LOCATION:
URL:https://www.standard-freeholder.com/news/local-news/cornwall-interfaith-partnership-discusses-unity-progress-at-world-interfaith-harmony-week-kickoff
END:VEVENT
END:VCALENDAR