BEGIN:VCALENDAR
VERSION:2.0
PRODID:-//DP Pro Event Calendar//3.0.2//EN
BEGIN:VEVENT
UID:f04d0d81-dfe3-4e15-b1ec-eb05cd3c563e
DTSTART;TZID=UTC:20240202T130000
DTEND;TZID=UTC:20260423T163000
DTSTAMP:20240114T163124Z
SUMMARY:2024 Interfaith Harmony Week
DESCRIPTION:
LOCATION:
URL:https://tzuchicenter.org/events/2024-interfaith-harmony-week
END:VEVENT
END:VCALENDAR