BEGIN:VCALENDAR
VERSION:2.0
PRODID:-//DP Pro Event Calendar//3.0.2//EN
BEGIN:VEVENT
UID:431ea030-9475-473b-ba95-61ea01415ffb
DTSTART;TZID=UTC:20240202T130000
DTEND;TZID=UTC:20260422T143000
DTSTAMP:20231231T110948Z
SUMMARY:Chair of Christian Thought
DESCRIPTION:
LOCATION:
URL:https://www.calgaryinterfaithcouncil.org/2024-united-nations-world-interfaith-harmony-week/
END:VEVENT
END:VCALENDAR