BEGIN:VCALENDAR
VERSION:2.0
PRODID:-//DP Pro Event Calendar//3.0.2//EN
BEGIN:VEVENT
UID:2cd3345b-f353-4552-8aea-f5bba6cc5993
DTSTART;TZID=UTC:20240201T170000
DTEND;TZID=UTC:20260423T215900
DTSTAMP:20240211T113437Z
SUMMARY:World Hijab Day
DESCRIPTION:
LOCATION:
URL:https://worldhijabday.com/global-events/
END:VEVENT
END:VCALENDAR