BEGIN:VCALENDAR
VERSION:2.0
PRODID:-//DP Pro Event Calendar//3.0.2//EN
BEGIN:VEVENT
UID:65ef63b9-a702-4966-bcd8-67a9f4e961a7
DTSTART;TZID=UTC:20240201T170000
DTEND;TZID=UTC:20260422T183000
DTSTAMP:20231231T110459Z
SUMMARY:UNWIHW Opening Ceremony
DESCRIPTION:
LOCATION:
URL:https://www.calgaryinterfaithcouncil.org/2024-united-nations-world-interfaith-harmony-week/
END:VEVENT
END:VCALENDAR