BEGIN:VCALENDAR
VERSION:2.0
PRODID:-//DP Pro Event Calendar//3.0.2//EN
BEGIN:VEVENT
UID:d4089666-e4e0-4554-ac38-e30b0dd6b81a
DTSTART;TZID=UTC:20240201T140000
DTEND;TZID=UTC:20260423T215900
DTSTAMP:20240211T113546Z
SUMMARY:World Hijab Day
DESCRIPTION:
LOCATION:
URL:https://worldhijabday.com/global-events/
END:VEVENT
END:VCALENDAR