BEGIN:VCALENDAR
VERSION:2.0
PRODID:-//DP Pro Event Calendar//3.0.2//EN
BEGIN:VEVENT
UID:30c49e84-6ea4-4fec-92f6-396a0773d81d
DTSTART;TZID=UTC:20240201T130000
DTEND;TZID=UTC:20260423T142000
DTSTAMP:20240211T113847Z
SUMMARY:World Hijab Day
DESCRIPTION:
LOCATION:
URL:https://worldhijabday.com/global-events/
END:VEVENT
END:VCALENDAR