BEGIN:VCALENDAR
VERSION:2.0
PRODID:-//DP Pro Event Calendar//3.0.2//EN
BEGIN:VEVENT
UID:4018ebab-523b-4f76-b449-d0a83a0012a5
DTSTART;TZID=UTC:20240201T120000
DTEND;TZID=UTC:20260422T215900
DTSTAMP:20240211T114806Z
SUMMARY:World Hijab Day
DESCRIPTION:
LOCATION:
URL:https://worldhijabday.com/global-events/
END:VEVENT
END:VCALENDAR