BEGIN:VCALENDAR
VERSION:2.0
PRODID:-//DP Pro Event Calendar//3.0.2//EN
BEGIN:VEVENT
UID:26de726d-4cf3-4f76-8b10-85a2647a7b0a
DTSTART;TZID=UTC:20240201T093000
DTEND;TZID=UTC:20260420T103000
DTSTAMP:20240211T120347Z
SUMMARY:World Hijab Day
DESCRIPTION:
LOCATION:
URL:https://worldhijabday.com/global-events/
END:VEVENT
END:VCALENDAR