BEGIN:VCALENDAR
VERSION:2.0
PRODID:-//DP Pro Event Calendar//3.0.2//EN
BEGIN:VEVENT
UID:6afec98c-ad7e-4186-9ada-097f88c5c2d9
DTSTART;TZID=UTC:20240201T073000
DTEND;TZID=UTC:20260423T215900
DTSTAMP:20240211T113314Z
SUMMARY:World Hijab Day
DESCRIPTION:
LOCATION:
URL:https://worldhijabday.com/global-events/
END:VEVENT
END:VCALENDAR