BEGIN:VCALENDAR
VERSION:2.0
PRODID:-//DP Pro Event Calendar//3.0.2//EN
BEGIN:VEVENT
UID:3e35d395-5efe-4f83-b2e0-fb6be968202f
DTSTART;TZID=UTC:20240201T070000
DTEND;TZID=UTC:20260421T215900
DTSTAMP:20240128T170618Z
SUMMARY:Interfaith Breakfast - Woking People of Faith
DESCRIPTION:Woking People of Faith is holding two events to mark World Interfaith Harmony Week. The first\, taking place on Thursday 1 February\, will be an Interfaith Breakfast to meet people from different faiths and beliefs in a relaxed environment.  This is being held at 9am at Marciano Lounge\, 4-7 Albion House\, Commercial Way\, Woking GU21 6HW. For more information\, and to book a place\, email administrator@wpof.org.uk.
LOCATION:
URL:https://www.interfaith.org.uk/involved/events
END:VEVENT
END:VCALENDAR