BEGIN:VCALENDAR
VERSION:2.0
PRODID:-//DP Pro Event Calendar//3.0.2//EN
BEGIN:VEVENT
UID:5f106264-f19e-4341-b6da-114c8d6fc4f9
DTSTART;TZID=UTC:20240131T220000
DTEND;TZID=UTC:20260420T215900
DTSTAMP:20240211T120234Z
SUMMARY:World Hijab Day
DESCRIPTION:
LOCATION:
URL:https://worldhijabday.com/global-events/
END:VEVENT
END:VCALENDAR