BEGIN:VCALENDAR
VERSION:2.0
PRODID:-//DP Pro Event Calendar//3.0.2//EN
BEGIN:VEVENT
UID:a210af7e-eca9-43ff-b6f8-2b8ce398b9df
DTSTART;TZID=UTC:20240131T220000
DTEND;TZID=UTC:20260425T215900
DTSTAMP:20240211T075731Z
SUMMARY:World Interfaith Harmony Week
DESCRIPTION:World Interfaith Harmony Week has been observed since 2010 after first being proposed at the United Nations by HM King Abdullah II of Jordan to promote harmony between citizens of the world regardless of their faith.\r \n \r \n The belief is we can all find strength and unity in diversity\, all faiths should be able to live alongside each other\, it is the connection between people and their faith that delivers good in the world. CatholicCare Sydney acts on this belief every day\, opening the door to community members seeking support no matter their faith or personal belief.\r \n \r \n CatholicCare Sydney has a vision for a diverse\, thriving society\, inclusion is fundamental to why we exist. We are here for everyone. Our Catholic heritage reminds us daily to invite in and care for those who may not be like us\, to open our arms in radical hospitality.\r \n \r \n In World Interfaith Harmony Week\, we reiterate the message that all are welcome here\, no matter your faith we are here to help you.\r \n \r \n Galatians 3:28 - There is neither Jew nor Greek\, there is neither bond nor free\, there is neither male nor female: for ye are all one in Christ Jesus.
LOCATION:
URL:https://www.catholiccare.org/contact-us/
END:VEVENT
END:VCALENDAR