BEGIN:VCALENDAR
VERSION:2.0
PRODID:-//DP Pro Event Calendar//3.0.2//EN
BEGIN:VEVENT
UID:e8b49143-ad86-4877-a68c-abeafe74b81a
DTSTART;TZID=UTC:20240131T220000
DTEND;TZID=UTC:20260423T215900
DTSTAMP:20240114T120846Z
SUMMARY:Interfaith Harmony Week
DESCRIPTION:\r \n \r \n ASU encourages students to explore and learn about world views each year during the first week of February.\r \n \r \n Interfaith Harmony Week runs  February 1 to February 7.\r \n \r \n \r \n Feb 1\, 2024 - 12:00 AM - Feb 1\, 2024 - 11:59 PM
LOCATION:
URL:https://eoss.asu.edu/content/interfaith-harmony-week-0
END:VEVENT
END:VCALENDAR