BEGIN:VCALENDAR
VERSION:2.0
PRODID:-//DP Pro Event Calendar//3.0.2//EN
BEGIN:VEVENT
UID:1d1b6bc1-f552-4167-b4cc-769f3da452d9
DTSTART;TZID=UTC:20240130T103000
DTEND;TZID=UTC:20260421T114500
DTSTAMP:20240128T165330Z
SUMMARY:Getting help with work opportunities and DIY solutions - Redbridge Faith Forum
DESCRIPTION:Redbridge Faith Forum is holding its next quarterly meeting on Tuesday 30 January. This will cover 'Getting help with work opoprtunities and DIY solutions'. The meeting is being held in partnership with North East London Eco Faith.  It is being held from 12.30pm to 1.45pm at the Buddhist Vihara\, 9 Balfour Road\, Ilford IG1 4HP.  Light refreshments will be available. For more information\, and to book a free place.
LOCATION:
URL:https://www.interfaith.org.uk/involved/events
END:VEVENT
END:VCALENDAR