BEGIN:VCALENDAR
VERSION:2.0
PRODID:-//DP Pro Event Calendar//3.0.2//EN
BEGIN:VEVENT
UID:87193679-9d7f-43f1-82c9-1b1b4d7fb3cd
DTSTART;TZID=UTC:20240129T220000
DTEND;TZID=UTC:20260422T215900
DTSTAMP:20240102T011003Z
SUMMARY:Harmony Kick
DESCRIPTION:Benue state is one of the communities affected b crisis which has led to religious crisis\, hate speech among community members\, the Harmony for Kick is using sports as a tool to preach about peace and love for the neighbour  and build social cohesion among communities mostly affected by crisis.
LOCATION:
URL:
END:VEVENT
END:VCALENDAR