BEGIN:VCALENDAR
VERSION:2.0
PRODID:-//DP Pro Event Calendar//3.0.2//EN
BEGIN:VEVENT
UID:dddc3fb9-e694-42b5-84a0-e180bde9789c
DTSTART;TZID=UTC:20240129T160000
DTEND;TZID=UTC:20260422T215900
DTSTAMP:20240102T135606Z
SUMMARY:Sacred Literature in Interfaith Contexts
DESCRIPTION:
LOCATION:
URL:https://www.oxfordinterfaithforum.org/wp-content/uploads/2023/11/Jan-2024-Aaron-Koller.png
END:VEVENT
END:VCALENDAR