BEGIN:VCALENDAR
VERSION:2.0
PRODID:-//DP Pro Event Calendar//3.0.2//EN
BEGIN:VEVENT
UID:70afe352-b9c7-4992-9b40-04fc8f5b2e97
DTSTART;TZID=UTC;VALUE=DATE:20240101
DTEND;TZID=UTC;VALUE=DATE:20240102
DTSTAMP:20240131T201317Z
SUMMARY:www.quranandbiblesidebyside.com
DESCRIPTION:In these troubled times we are focussing on what we have in common. We: Jews\, Muslims\, Christians. It is difficult to get together because the actors are in war. But we did manage to reach out to interfaith groups in Israel\, Palestine and the US via our website redesigned for this difficult situation.
LOCATION:
URL:www.researchgate.net/publication/374781798_QURAN_AND_BIBLE_SIDE_BY_SIDE_-_english_and_arabic
ATTACH;FMTTYPE=image/jpeg:https://worldinterfaithharmonyweek.com/wp-content/uploads/2024/01/9408_1706724798_d2b5ca33bd970f64a6301fa75ae2eb22-724x1024.png
END:VEVENT
END:VCALENDAR