BEGIN:VCALENDAR
VERSION:2.0
PRODID:-//DP Pro Event Calendar//3.0.2//EN
BEGIN:VEVENT
UID:b221976b-f245-47ad-b160-640c6de66a52
DTSTART;TZID=UTC:20220201T100000
DTEND;TZID=UTC:20260423T215900
DTSTAMP:20240114T181526Z
SUMMARY:Interfaith Festival &amp\; World Interfaith Harmony Week Celebration
DESCRIPTION:Interfaith Festival &amp\; World Interfaith Harmony Week Celebration\r \n \r \n February 1 - 29\, 2024\r \n \r \n Opening Ceremony of the 39th Annual Interfaith Festival &amp\; World Interfaith Harmony Week Celebrations (online &amp\; offline events) will be held on Thursday\, February 1\, 2024 at 10 am EST New York (8:30 pm in India). Please register NOW!!!!!! \r \n https://us02web.zoom.us/meeting/register/tZEkf-2srTosGNEovFgMAwF7f3gCW049zY_b\r \n \r \n Interfaith Prayer Service\, Meditation\, Music\, Dance\, Devotional Songs\, Guest Speakers\, Panel discussion\, Annual Award ceremony\, and much more!\r \n \r \n Organized by Guruji H.H. Dileepkumar Thankappan\r \n \r \n Hosted by World Yoga Community Inc.\r \n \r \n +1(212)851-6672\r \n \r \n gurudileepji@yahoo.com\r \n \r \n http://www.wycevents.com/
LOCATION:
URL:www.wycevents.com
ATTACH;FMTTYPE=image/jpeg:https://worldinterfaithharmonyweek.com/wp-content/uploads/2024/02/713_1706754724_a1b20c2b4eabf38d37df337e924049ef.jpg
END:VEVENT
END:VCALENDAR